BEGIN:VCALENDAR
VERSION:2.0
METHOD:PUBLISH
BEGIN:VEVENT
UID:WILD_APRICOT_EVENT_2737361_SESSION_1
DTSTART:20180513T200000Z
DTEND:20180515T030000Z
SUMMARY:EXHIBITOR REGISTRATION 2018 ALGIM Autumn Conference (GIS & IRM)
LOCATION:James Cook Grand Chancellor\, Wellington
DESCRIPTION:https://algim.org.nz/event-2737361\n\nInstructions:\n\n  All prices are exclusive of GST and many of the options are subject to availability.\n  IF YOU ARE BOOKING AN EXHIBITION BOOTH\, PLEASE ALSO FILL OUT OUR BOOTH BOOKING FORM\n\n  Displayways are the official display provider for the 2018 ALGIM Autumn Conference. They will supply exhibitors with a stand that is 3 metres wide\, 1.2 metres deep and 2.3 metres high (double width for platinum booth).  Lighting and power will also be provided and all stands will be partitioned (unless requested otherwise). Furniture is not included. You can order a trestle table with chairs during the registration process\, otherwise additional furniture or equipment can be organised directly with Displayways by contacting Nakita Lockett on DDI: 04 282 1603\, Mobile: 027 468 8123 or email n.lockett@displayways.co.nz\n
DTSTAMP:20260424T122718Z
END:VEVENT
END:VCALENDAR
