BEGIN:VCALENDAR
VERSION:2.0
METHOD:PUBLISH
BEGIN:VEVENT
UID:WILD_APRICOT_EVENT_2749835_SESSION_1
DTSTART:20180513T200000Z
DTEND:20180515T040000Z
SUMMARY:2018 ALGIM Autumn Conference (GIS & IRM)
LOCATION:James Cook Hotel Wellington - 147 The Terrace\, Wellington
DESCRIPTION:https://algim.org.nz/event-2749835\n\n\n\n  \n\n  NOTE | All New Zealand Councils and their staff are members of ALGIM.\n\n  All prices are GST exclusive\n  For more information about the ALGIM Autumn Conference please see our programme or refer to the ALGIM Autumn Conference webpage\n\n  We are also running a pre-conference droneSafe workshop\, IM Toolkit workshop\, and Women in Spatial breakfast.\n      * Register for droneSafe here\n\n        * Register for IM Toolkit during the normal registration process\n\n        * Register for Women in Spatial breakfast here\n\n\n  This is not the registration page for exhibitors. If you are wishing to exhibit or sponsor\, please go to this page.\n  \n\n
DTSTAMP:20260424T134904Z
END:VEVENT
END:VCALENDAR
