BEGIN:VCALENDAR
VERSION:2.0
METHOD:PUBLISH
BEGIN:VEVENT
UID:WILD_APRICOT_EVENT_2821885_SESSION_1
DTSTART:20180320T220000Z
DTEND:20180320T230000Z
SUMMARY:Webinar - Executive Sponsors 101 with Kerri Siatiras
LOCATION:
DESCRIPTION:https://algim.org.nz/event-2821885\n\nExecutive Sponsor under the Public Records Act?\n  Find out everything you need to know from our upcoming webinar\n  ALGIM are local government’s information management specialists\, and we want to ensure that our members (all the Councils of New Zealand) have the tools and knowledge they need to carry out their function as an Executive Sponsor under the Public Records Act regulations.\n  That’s why we’ve designed a 1 hour webinar hosted by ALGIM’s  expert speaker\, Kerri Siatiras to give you a briefing on what you need to know about being an Executive Sponsor. As an Executive Sponsor under the Public Records Act 2005 (PRA)\, it’s crucial that you understand the implications for your role and your organisation.\n  Over the course of this hour-long webinar\, Kerri will take you through finer points of the PRA and your role as the nominated Executive Sponsor for your organisation\, covering many important topics\, including:\n      * An overview of the PRA\, and what you as sponsor need to know about it\n\n        * The purpose of having an Executive Sponsor\n\n        * The requirements and responsibilities of an Executive Sponsor\n\n        * How to meet these requirements in a practical way\n\n        * What you should ensure is occurring within your organisation\n\n        * What accountabilities there are to Archives NZ\n\n        * Introduction to the Information and Records Management Standard for Senior Managers\n\n        * The dilemma of digital preservation that all Local Authorities will face\n\n  There will also be plenty of time for a Q&A at the end. Make sure you have your council covered – join us for this webinar and get a real understanding of what it means to be an effective Executive Sponsor.\n  We recommend you log in 10 minutes before the webinar starts (10.50am) to ensure that you can hear and see everything. If you have any issues\, please contact events@algim.org.nz\n\n
DTSTAMP:20260424T120214Z
END:VEVENT
END:VCALENDAR
