BEGIN:VCALENDAR
VERSION:2.0
METHOD:PUBLISH
BEGIN:VEVENT
UID:WILD_APRICOT_EVENT_2828755_SESSION_1
DTSTART:20180514T191500Z
DTEND:20180514T201500Z
SUMMARY:Women in Spatial Breakfast - ALGIM Autumn Conference
LOCATION:James Cook Grand Chancellor Hotel\, Wellington
DESCRIPTION:https://algim.org.nz/event-2828755\n\nJoin guest speaker Barbara McKerrow\, Chief Operating Officer\, Wellington City Council for a inspirational networking breakfast.\n  Run in conjunction with ALGIM's Autumn Conference GIS and IRM this free breakfast will be held in Chancellor 6\, at the James Cook Grand Chancellor.\n  Thank you to Eagle Technology and Women in Spatial for supporting this event.\n  For any enquiries please email events@algim.org.nz\n\n
DTSTAMP:20260424T120240Z
END:VEVENT
END:VCALENDAR
