BEGIN:VCALENDAR
VERSION:2.0
METHOD:PUBLISH
BEGIN:VEVENT
UID:WILD_APRICOT_EVENT_2875448_SESSION_1
DTSTART:20180410T230000Z
DTEND:20180411T000000Z
SUMMARY:Webinar - Transforming local government services with emerging technology
LOCATION:
DESCRIPTION:https://algim.org.nz/event-2875448\n\nTransforming local government services with emerging technology\n  Technologies such as blockchain\, digital identity\, and IoT have huge potential benefits for local government. There is an understanding that emerging technologies will dramatically improve business\, and people are committed to creating connected environments for their employees and customers. However\, integrating these technologies and understanding how they will impact businesses can be difficult.\n  Hosted by BlockBit Solutions\, this webinar will focus on how blockchain\, digital identity\, and IoT can transform services delivered by government agencies at all levels\, offering enhanced security\, transparency and reliability. When implemented successfully\, these technologies can redefine the relationship between government and citizen in terms of data sharing and trust.  \n  We recommend you log in 10 minutes before the webinar starts (10.50am) to ensure that you can hear and see everything. If you have any issues\, please contact events@algim.org.nz\n\n
DTSTAMP:20181224T003134Z
END:VEVENT
END:VCALENDAR
