BEGIN:VCALENDAR
VERSION:2.0
METHOD:PUBLISH
BEGIN:VEVENT
UID:WILD_APRICOT_EVENT_2907117_SESSION_1
DTSTART:20180909T200000Z
DTEND:20180911T030000Z
SUMMARY:2018 ALGIM Spring Conference (Web and Digital & CX)
LOCATION:Crowne Plaza Hotel - 128 Albert Street\, Auckland Central 1010
DESCRIPTION:https://algim.org.nz/event-2907117\n\n\n\n  Check out the event programme\n  ALGIM Spring Conference\n Customer Experience and Web & Digital\n  ALGIM's Spring Conference is packed full of opportunities you won't find at any other event. \n\n  Tailored just for local government\, we are flying in speakers from councils in Canada and Australia that have innovated on the way they engage with their communities and provide an improved customer experience.\n  We've reached out to councils around the country to bring their best case studies to present\, meaning we have over 15 council case studies across the two days.\n \n There are more opportunities than ever before for you to discuss hot topics in your professions\, take part in interactive workshops\, join in panel discussions with the experts\, and just network with your peers.\n  Arrive early on Sunday 9 September\, and we have a workshop on how to create high-performing teams\, something that is crucial for local government with the ever growing push for efficiency and continuous improvement. Followed by a fun team activity\, and a welcome dinner.*\n  To top it off\, we have site visits to a number of amazing Auckland organisations\, our awards programme\, and a range of exhibitors from home and abroad.\n\n  All of this is before we get to our high-profile thought leaders\, including New Zealand's own AI leader Soul Machines\, PwC on intelligent automation\, and Agile experts Nomad8 on creating cross-functional teams.\n
DTSTAMP:20260424T121758Z
END:VEVENT
END:VCALENDAR
