BEGIN:VCALENDAR
VERSION:2.0
METHOD:PUBLISH
BEGIN:VEVENT
UID:WILD_APRICOT_EVENT_3158427_SESSION_1
DTSTART:20181218T220000Z
DTEND:20181218T223000Z
SUMMARY:Webinar - Never\, ever forget a contract with ALGIM and LocoCONTRACTS
LOCATION:
DESCRIPTION:https://algim.org.nz/event-3158427\n\n  \nNever\, ever forget a contract with ALGIM and LocoCONTRACTS\n  Contracts\, agreements\, and compliance conditions are complex to manage\, especially when some of them can span decades or even centuries. Councils have been left embarrassed when something that should have happened failed to be picked up.\n  ALGIM’s latest venture\, under the framework of our LocoSOFT project is to take away the worries around contracts.\n  LocoCONTRACTS is the ultimate bring-up system for contracts and agreements that your council has signed up to. It will be able to track complex contracts and alert you when they’re expiring or require attention.\n  To tell you more about the system\, we’re holding a free webinar to run through all the features and how it could benefit your council.\n  Remember\, even if you can’t make it on the day\, you can sign up and you’ll be sent a recording.\n  A link for the webinar will be sent in the confirmation email. Please enter your details at that link to receive the viewing link for the webinar.\n\n  We recommend you log in 10 minutes before the webinar starts (10.50am) to ensure that you can hear and see everything. If you have any issues\, please contact admin@algim.org.nz\n
DTSTAMP:20181224T002017Z
END:VEVENT
END:VCALENDAR
